BEGIN:VCALENDAR
VERSION:2.0
PRODID:-//Schola Gregoriana de Murcia - ECPv6.0.10//NONSGML v1.0//EN
CALSCALE:GREGORIAN
METHOD:PUBLISH
X-ORIGINAL-URL:https://scholagregoriana.es
X-WR-CALDESC:Eventos para Schola Gregoriana de Murcia
REFRESH-INTERVAL;VALUE=DURATION:PT1H
X-Robots-Tag:noindex
X-PUBLISHED-TTL:PT1H
BEGIN:VTIMEZONE
TZID:Europe/Paris
BEGIN:DAYLIGHT
TZOFFSETFROM:+0100
TZOFFSETTO:+0200
TZNAME:CEST
DTSTART:20250330T010000
END:DAYLIGHT
BEGIN:STANDARD
TZOFFSETFROM:+0200
TZOFFSETTO:+0100
TZNAME:CET
DTSTART:20251026T010000
END:STANDARD
END:VTIMEZONE
BEGIN:VEVENT
DTSTART;TZID=Europe/Paris:20250316T193000
DTEND;TZID=Europe/Paris:20250316T203000
DTSTAMP:20260423T145959
CREATED:20250310T155535Z
LAST-MODIFIED:20250310T164821Z
UID:2793-1742153400-1742157000@scholagregoriana.es
SUMMARY:II Domingo de Cuaresma
DESCRIPTION:El 16 de marzo cantaremos la liturgia del II Domingo de Cuaresma en la Catedral de Murcia con el acompañamiento al órgano de Jaime Martínez Vivancos. \nComenzaremos con el introito cuyo texto procede del salmo 26: \nTibi dixit cor meum\, quaesivi vultum tuum\, vultum tuum Domine requiram: ne avertas faciem tuam a me. \n– Contigo habló mi corazón\, sólo ansié contemplar tu rostro; lo buscaré\, Señor\, no lo escondas a mi vista. \nEn el tiempo de Cuaresma se sustituye el aleluya por un canto entre lecturas que se denomina tracto. El que corresponde a este Domingo emplea el salmo 59: \nCommovisti Domine terram\, et conturbasti eam. \n– Tú\, Señor\, has sacudido la tierra y la has turbado. \nEl ofertorio es una auténtica meditación sobre el amor a los mandatos del Señor procedente del salmo 118: \nMeditabor in mandatis tuis\, quae dilexi valde: et levabo manus meas ad mandata tua\, quae dilexi. \n– Serán mi delicia tus mandatos\, que tanto amo; levantaré mis manos hacia tus decretos\, que tanto amo. \nLa comunión emplea un texto del evangelio de Mateo\, capítulo 17\, en el que se narra la visión de Moisés y Elías ante Jesús y los discípulos Pedro\, Juan y Santiago. Y Jesús advierte a sus discípulos: \nVisionem quam vidistis\, nemini dixeritis\, donec a mortuis resurgat Filius hominis. \n– No contéis a nadie la visión hasta que el Hijo del hombre resucite de entre los muertos. \nCantaremos también el ordinario XVII.
URL:https://scholagregoriana.es/evento/ii-domingo-de-cuaresma-2
LOCATION:Catedral de Murcia\, Plaza del Cardenal Belluga 1\, Murcia\, Murcia\, 30001\, España
CATEGORIES:Liturgia
ATTACH;FMTTYPE=image/jpeg:https://scholagregoriana.es/wp-content/uploads/2022/10/catedral_apostoles.jpg
END:VEVENT
END:VCALENDAR