BEGIN:VCALENDAR
VERSION:2.0
PRODID:-//Schola Gregoriana de Murcia - ECPv6.0.10//NONSGML v1.0//EN
CALSCALE:GREGORIAN
METHOD:PUBLISH
X-WR-CALNAME:Schola Gregoriana de Murcia
X-ORIGINAL-URL:https://scholagregoriana.es
X-WR-CALDESC:Eventos para Schola Gregoriana de Murcia
REFRESH-INTERVAL;VALUE=DURATION:PT1H
X-Robots-Tag:noindex
X-PUBLISHED-TTL:PT1H
BEGIN:VTIMEZONE
TZID:Europe/Paris
BEGIN:DAYLIGHT
TZOFFSETFROM:+0100
TZOFFSETTO:+0200
TZNAME:CEST
DTSTART:20250330T010000
END:DAYLIGHT
BEGIN:STANDARD
TZOFFSETFROM:+0200
TZOFFSETTO:+0100
TZNAME:CET
DTSTART:20251026T010000
END:STANDARD
END:VTIMEZONE
BEGIN:VEVENT
DTSTART;TZID=Europe/Paris:20250418T180000
DTEND;TZID=Europe/Paris:20250418T190000
DTSTAMP:20260419T201421
CREATED:20250404T074215Z
LAST-MODIFIED:20250404T074215Z
UID:2813-1744999200-1745002800@scholagregoriana.es
SUMMARY:Viernes Santo
DESCRIPTION:La Schola cantará los oficios del Viernes Santo en la iglesia del convento de la Merced\, de los padres franciscanos. Durante esta celebración se cantará la pasión según san Juan.
URL:https://scholagregoriana.es/evento/viernes-santo-5
LOCATION:Iglesia conventual de La Merced\, Calle Santo Cristo 2\, Murcia\, Murcia\, 30001\, España
CATEGORIES:Liturgia
ATTACH;FMTTYPE=image/jpeg:https://scholagregoriana.es/wp-content/uploads/2019/02/la_merced.jpg
END:VEVENT
END:VCALENDAR