BEGIN:VCALENDAR
VERSION:2.0
PRODID:-//Schola Gregoriana de Murcia - ECPv6.0.10//NONSGML v1.0//EN
CALSCALE:GREGORIAN
METHOD:PUBLISH
X-WR-CALNAME:Schola Gregoriana de Murcia
X-ORIGINAL-URL:https://scholagregoriana.es
X-WR-CALDESC:Eventos para Schola Gregoriana de Murcia
REFRESH-INTERVAL;VALUE=DURATION:PT1H
X-Robots-Tag:noindex
X-PUBLISHED-TTL:PT1H
BEGIN:VTIMEZONE
TZID:Europe/Paris
BEGIN:DAYLIGHT
TZOFFSETFROM:+0100
TZOFFSETTO:+0200
TZNAME:CEST
DTSTART:20250330T010000
END:DAYLIGHT
BEGIN:STANDARD
TZOFFSETFROM:+0200
TZOFFSETTO:+0100
TZNAME:CET
DTSTART:20251026T010000
END:STANDARD
END:VTIMEZONE
BEGIN:VEVENT
DTSTART;TZID=Europe/Paris:20251128T163000
DTEND;TZID=Europe/Paris:20251128T173000
DTSTAMP:20260421T103229
CREATED:20251129T180307Z
LAST-MODIFIED:20251129T180449Z
UID:2860-1764347400-1764351000@scholagregoriana.es
SUMMARY:Funeral por D. Francisco Gil Hellín
DESCRIPTION:La Schola Gregoriana participa en la misa funeral ofrecida en la Catedral de Murcia por el eterno descanso de D. Francisco Gil Hellín\, arzobispo emérito de Burgos.
URL:https://scholagregoriana.es/evento/funeral-por-d-francisco-gil-hellin
LOCATION:Catedral de Murcia\, Plaza del Cardenal Belluga 1\, Murcia\, Murcia\, 30001\, España
CATEGORIES:Liturgia
ATTACH;FMTTYPE=image/jpeg:https://scholagregoriana.es/wp-content/uploads/2022/10/catedral_apostoles.jpg
END:VEVENT
END:VCALENDAR