BEGIN:VCALENDAR
VERSION:2.0
PRODID:-//Schola Gregoriana de Murcia - ECPv6.0.10//NONSGML v1.0//EN
CALSCALE:GREGORIAN
METHOD:PUBLISH
X-ORIGINAL-URL:https://scholagregoriana.es
X-WR-CALDESC:Eventos para Schola Gregoriana de Murcia
REFRESH-INTERVAL;VALUE=DURATION:PT1H
X-Robots-Tag:noindex
X-PUBLISHED-TTL:PT1H
BEGIN:VTIMEZONE
TZID:Europe/Paris
BEGIN:DAYLIGHT
TZOFFSETFROM:+0100
TZOFFSETTO:+0200
TZNAME:CEST
DTSTART:20190331T010000
END:DAYLIGHT
BEGIN:STANDARD
TZOFFSETFROM:+0200
TZOFFSETTO:+0100
TZNAME:CET
DTSTART:20191027T010000
END:STANDARD
END:VTIMEZONE
BEGIN:VEVENT
DTSTART;TZID=Europe/Paris:20191003T210000
DTEND;TZID=Europe/Paris:20191003T220000
DTSTAMP:20260421T200734
CREATED:20190930T084603Z
LAST-MODIFIED:20190930T084603Z
UID:2112-1570136400-1570140000@scholagregoriana.es
SUMMARY:San Francisco
DESCRIPTION:En la víspera de la fiesta de San Francisco\, la Schola Gregoriana de Murcia cantará en la celebración de la misa en el Convento de los Padres Franciscanos de La Merced. Interpretaremos las obras gregorianas propias de la festividad del santo fundador de la orden. La Schola Gregoriana tiene un fuerte vínculo con los Padres Franciscanos de Murcia ya que nos han acogido en las salas de su convento para llevar a cabo nuestros ensayos prácticamente desde la creación del grupo.
URL:https://scholagregoriana.es/evento/san-francisco
LOCATION:Iglesia conventual de La Merced\, Calle Santo Cristo 2\, Murcia\, Murcia\, 30001\, España
CATEGORIES:Liturgia
ATTACH;FMTTYPE=image/jpeg:https://scholagregoriana.es/wp-content/uploads/2019/09/san_francisco.jpg
END:VEVENT
BEGIN:VEVENT
DTSTART;TZID=Europe/Paris:20190623T120000
DTEND;TZID=Europe/Paris:20190623T133000
DTSTAMP:20260421T200734
CREATED:20190422T092551Z
LAST-MODIFIED:20190422T092638Z
UID:2047-1561291200-1561296600@scholagregoriana.es
SUMMARY:Elche de la Sierra
DESCRIPTION:La Schola Gregoriana de Murcia intervendrá en la celebración litúrgica del Corpus Christi en la Parroquia de Santa Quiteria de Elche de la Sierra (Albacete). La iglesia de Santa Quiteria\, de estilo Neoclásico\, fue construida por Francisco Pérez Rodríguez entre 1783 y 1788. La parroquia alberga un fabuloso órgano histórico de D. Joseph Llopis (1792) restaurado en 2005 por el taller de los Hermanos Desmottes de Landete (Cuenca). Las alfombras de serrín de la fiesta del Corpus Christi de Elche de la Sierra están declaradas de interés turístico nacional desde 2014. \n 
URL:https://scholagregoriana.es/evento/elche-de-la-sierra
LOCATION:Parroquia de Santa Quiteria\, Plaza Iglesia\, 1\, Elche de la Sierra\, Albacete\, 02430\, España
CATEGORIES:Liturgia
ATTACH;FMTTYPE=image/jpeg:https://scholagregoriana.es/wp-content/uploads/2019/04/alfombras_corpus.jpg
END:VEVENT
BEGIN:VEVENT
DTSTART;TZID=Europe/Paris:20190622T200000
DTEND;TZID=Europe/Paris:20190622T210000
DTSTAMP:20260421T200734
CREATED:20190609T072438Z
LAST-MODIFIED:20190609T073746Z
UID:2091-1561233600-1561237200@scholagregoriana.es
SUMMARY:Monasterio de Agustinas
DESCRIPTION:El próximo sábado 22\, víspera de la solemnidad del Corpus Christi\, la Schola Gregoriana intervendrá en la misa de las 19:00 en el Monasterio de Agustinas del Corpus Christi de Murcia. La Custodia está presente en numerosos elementos del templo\, como la hornacina de la fachada\, la decoración interior de la cúpula\, o la veleta sobre la misa. Interpretaremos cantos del propio de la solemnidad: introito Cibavit eos\, aleluya Caro mea vere\, la secuencia Lauda Sion\, el ofertorio Portas Coeli y comunión Qui manducat.
URL:https://scholagregoriana.es/evento/monasterio-de-agustinas
LOCATION:Monasterio de Agustinas\, Plaza Agustinas 4\, Murcia\, Murcia\, 30005\, España
CATEGORIES:Liturgia
ATTACH;FMTTYPE=image/jpeg:https://scholagregoriana.es/wp-content/uploads/2019/06/monasterio_agustinas.jpg
END:VEVENT
BEGIN:VEVENT
DTSTART;TZID=Europe/Paris:20190420T230000
DTEND;TZID=Europe/Paris:20190421T003000
DTSTAMP:20260421T200734
CREATED:20190223T103325Z
LAST-MODIFIED:20190223T103325Z
UID:1968-1555801200-1555806600@scholagregoriana.es
SUMMARY:Vigilia Pascual
DESCRIPTION:La celebración más especial en todo el año litúrgico es la Vigilia Pascual. La noche del Sábado Santo\, la Schola Gregoriana canta en la Iglesia de San Miguel de Murcia. Durante las lecturas\, interviene con los cantos Laudate Dominum y Sicut Cervus. Uno de los momentos más especiales tiene lugar con el canto del Gloria. En la liturgia bautismal se interpretan las letanías de los santos y la antífona Vidi Aquam. Durante el ofertorio interpretamos la secuencia Victimae Paschali\, y en la comunión Pascha nostrum. El ordinario cantado en este momento tan festivo es la misa de Angelis.
URL:https://scholagregoriana.es/evento/vigilia-pascual
LOCATION:Iglesia de San Miguel\, Calle San Miguel\, Murcia\, Murcia\, 30005\, España
CATEGORIES:Liturgia
ATTACH;FMTTYPE=image/jpeg:https://scholagregoriana.es/wp-content/uploads/2019/02/san_miguel_retablo.jpg
END:VEVENT
BEGIN:VEVENT
DTSTART;TZID=Europe/Paris:20190419T190000
DTEND;TZID=Europe/Paris:20190419T200000
DTSTAMP:20260421T200734
CREATED:20190223T102637Z
LAST-MODIFIED:20190223T102637Z
UID:1965-1555700400-1555704000@scholagregoriana.es
SUMMARY:Viernes Santo
DESCRIPTION:La Schola Gregoriana participa en la solemne celebración del Oficio de Viernes Santo en la Iglesia de la Merced (padres franciscanos) de Murcia. Interpreta el canto de la Pasión Según San Juan. Durante la adoración de la Cruz se canta Ecce lignum Crucis\, Crucem tuam y el himno Crux fidelis. En la comunión se interpreta el canto de los improperios Popule meus.
URL:https://scholagregoriana.es/evento/viernes-santo
LOCATION:Murcia
CATEGORIES:Liturgia
ATTACH;FMTTYPE=image/jpeg:https://scholagregoriana.es/wp-content/uploads/2019/02/la_merced.jpg
END:VEVENT
BEGIN:VEVENT
DTSTART;TZID=Europe/Paris:20190418T223000
DTEND;TZID=Europe/Paris:20190418T230000
DTSTAMP:20260421T200734
CREATED:20190223T101915Z
LAST-MODIFIED:20190223T101915Z
UID:1961-1555626600-1555628400@scholagregoriana.es
SUMMARY:Procesión del Refugio
DESCRIPTION:En la noche del Jueves Santo\, la Schola Gregoriana canta en el coro alto de la Iglesia de San Lorenzo durante la preparación del cortejo procesional de la Cofradía del Refugio. Los cantos interpretados son los propios del Jueves Santo junto con otros de carácter penitencial interpretados durante la Cuaresma y otros días de la Semana Santa. La Schola Gregoriana tiene el privilegio de asistir a la salida del Cristo del Refugio con el templo sumido en la oscuridad y la iluminación única de las velas de los penitentes y del trono del Cristo.
URL:https://scholagregoriana.es/evento/procesion-del-refugio
LOCATION:Iglesia de San Lorenzo\, Calle Alejandro Séiquer 12\, Murcia\, Murcia\, 30001\, España
CATEGORIES:Liturgia
ATTACH;FMTTYPE=image/jpeg:https://scholagregoriana.es/wp-content/uploads/2019/02/san_lorenzo.jpg
END:VEVENT
BEGIN:VEVENT
DTSTART;TZID=Europe/Paris:20190418T190000
DTEND;TZID=Europe/Paris:20190418T200000
DTSTAMP:20260421T200734
CREATED:20190223T100632Z
LAST-MODIFIED:20190417T174637Z
UID:1955-1555614000-1555617600@scholagregoriana.es
SUMMARY:Jueves Santo
DESCRIPTION:La Schola Gregoriana interviene en la Missa Verpertina in Cena Domini el Jueves Santo en la iglesia de San Miguel de Murcia. Interpretamos el introito Nos autem gloriari\, el tracto Ab ortu solis\, las antífonas para el lavatorio de los pies Dominus Iesus\, Mandatum novum y Maneant in vobis. Durante el ofertorio se canta Ubi caritas\, y en la comunión Hoc Corpus. En el traslado al Monumento Pange Lingua y en la posterior reserva Tantum Ergo. Se interpreta también el ordinario de la misa de Angelis.
URL:https://scholagregoriana.es/evento/jueves-santo
LOCATION:Iglesia de San Miguel\, Calle San Miguel\, Murcia\, Murcia\, 30005\, España
CATEGORIES:Liturgia
ATTACH;FMTTYPE=image/jpeg:https://scholagregoriana.es/wp-content/uploads/2019/02/san_miguel_retablo.jpg
END:VEVENT
BEGIN:VEVENT
DTSTART;TZID=Europe/Paris:20190418T121500
DTEND;TZID=Europe/Paris:20190418T130000
DTSTAMP:20260421T200734
CREATED:20190326T070905Z
LAST-MODIFIED:20190326T070918Z
UID:2019-1555589700-1555592400@scholagregoriana.es
SUMMARY:Cofradía del Santo Sepulcro
DESCRIPTION:La Real y muy Ilustre Cofradía del Santo Sepulcro de Nuestro Señor Jesucristo ha invitado a la Schola Gregoriana a participar en la Ceremonia de Adoración de la Santísima y Vera Cruz\, que tiene lugar el Jueves Santo por la mañana\, en la Iglesia del Convento de Santa Clara la Real de Murcia. Durante la solemne celebración se interpretan cantos de exaltación de la Cruz.
URL:https://scholagregoriana.es/evento/cofradia-del-santo-sepulcro
LOCATION:Convento de Santa Clara la Real\, Avenida Alfonso X el Sabio\, 1\, Murcia\, Murcia\, 30008\, España
CATEGORIES:Liturgia
ATTACH;FMTTYPE=image/jpeg:https://scholagregoriana.es/wp-content/uploads/2019/03/las_claras.jpg
END:VEVENT
BEGIN:VEVENT
DTSTART;TZID=Europe/Paris:20190416T120000
DTEND;TZID=Europe/Paris:20190416T133000
DTSTAMP:20260421T200734
CREATED:20190223T101239Z
LAST-MODIFIED:20190223T101239Z
UID:1959-1555416000-1555421400@scholagregoriana.es
SUMMARY:Misa Crismal
DESCRIPTION:El Martes Santo\, la Schola Gregoriana participa en la celebración de la Missa Chrismatis en la Catedral de Murcia. Entre los cantos propios de este día se encuentra el introito Dilexisti iustitiam\, el gradual Inveni David\, el himno para la procesión de los óleos O Redemptor y la comunión Dilexisti Iustitiam. En esta ocasión\, con la participación de los sacerdotes de la diócesis\, se interpreta el ordinario de la Misa de Angelis.
URL:https://scholagregoriana.es/evento/misa-crismal
LOCATION:Catedral de Murcia\, Plaza del Cardenal Belluga 1\, Murcia\, Murcia\, 30001\, España
CATEGORIES:Liturgia
ATTACH;FMTTYPE=image/jpeg:https://scholagregoriana.es/wp-content/uploads/2019/02/catedral_murcia.jpg
END:VEVENT
BEGIN:VEVENT
DTSTART;TZID=Europe/Paris:20190414T110000
DTEND;TZID=Europe/Paris:20190415T003000
DTSTAMP:20260421T200734
CREATED:20190223T093956Z
LAST-MODIFIED:20190223T093956Z
UID:1951-1555239600-1555288200@scholagregoriana.es
SUMMARY:Domingo de Ramos
DESCRIPTION:La Schola Gregoriana interviene en la Missa Dominica in Palmis en la Catedral de Murcia. Se trata del primer acto de la Semana Santa en el que participa la Schola. Comenzaremos interpretando las antífonas de la procesión de las palmas en la Plaza de la Cruz (Hosanna filio David\, Pueri Hebraeorum portantes\, Pueri Hebraeorum vestimenta). La procesión continuará bordeando la Catedral junto a los soportales hasta ingresar en el templo por la Plaza de Belluga\, momento en el que se interpreta el himno Gloria\, laus et honor. Durante la celebración interpretaremos el gradual Christus factus est\, ofertorio Improperium y comunión Pater si non potest. El ordinario (Sanctus y Agnus Dei) corresponderá a la misa Fons bonitatis.
URL:https://scholagregoriana.es/evento/domingo-de-ramos
LOCATION:Catedral de Murcia\, Plaza del Cardenal Belluga 1\, Murcia\, Murcia\, 30001\, España
CATEGORIES:Liturgia
ATTACH;FMTTYPE=image/jpeg:https://scholagregoriana.es/wp-content/uploads/2019/02/catedral_murcia.jpg
END:VEVENT
BEGIN:VEVENT
DTSTART;TZID=Europe/Paris:20190405T210000
DTEND;TZID=Europe/Paris:20190405T220000
DTSTAMP:20260421T200734
CREATED:20190209T192417Z
LAST-MODIFIED:20190222T194344Z
UID:1876-1554498000-1554501600@scholagregoriana.es
SUMMARY:Santo Entierro - Alcantarilla
DESCRIPTION:La Schola Gregoriana de Murcia participará en los actos de culto solemnes organizados por la Archicofradía del Santísimo Cuerpo de Cristo “Señor del Mundo” y Santo Entierro de Alcantarilla. Esta archicofradía\, fundada en 1688\, tiene su sede en la Iglesia de San Pedro de Alcantarilla. El Cristo Yacente (1944) es obra del escultor murciano José Planes (1891-1974)\, fundador de la Escuela de Artes y Oficios de Murcia.
URL:https://scholagregoriana.es/evento/santo-entierro-alcantarilla
LOCATION:Iglesia de San Pedro Apóstol de Alcantarilla\, Plaza San Pedro 1\, Alcantarilla\, Murcia\, 30820\, España
CATEGORIES:Liturgia
ATTACH;FMTTYPE=image/jpeg:https://scholagregoriana.es/wp-content/uploads/2019/02/cabecera_alcantarilla_yacente.jpg
END:VEVENT
BEGIN:VEVENT
DTSTART;TZID=Europe/Paris:20190328T093000
DTEND;TZID=Europe/Paris:20190328T223000
DTSTAMP:20260421T200734
CREATED:20190219T081220Z
LAST-MODIFIED:20190227T075116Z
UID:1912-1553765400-1553812200@scholagregoriana.es
SUMMARY:Suenan los órganos en Murcia
DESCRIPTION:Dentro del ciclo de conciertos “Suenan los órganos en Murcia”\, organizado por la Asociación Merklin de Amigos del Órgano de la Región de Murcia (AMAORM)\, la Schola Gregoriana y el organista Alberto Muñoz de Sus ofrecerán un concierto en la iglesia del Convento de Santa Ana de Murcia. La Schola interpretará obras del repertorio gregoriano de Cuaresma intercaladas entre piezas organísticas que mostrarán las cualidades del órgano de Matías Salanova (1763) que alberga esta iglesia.
URL:https://scholagregoriana.es/evento/suenan-los-organos-en-murcia
LOCATION:Convento de Santa Ana\, Plaza de Santa Ana 2\, Murcia\, Murcia\, 30008\, España
CATEGORIES:Conciertos
ATTACH;FMTTYPE=image/jpeg:https://scholagregoriana.es/wp-content/uploads/2019/02/las_anas.jpg
END:VEVENT
BEGIN:VEVENT
DTSTART;TZID=Europe/Paris:20190327T213000
DTEND;TZID=Europe/Paris:20190327T223000
DTSTAMP:20260421T200734
CREATED:20190313T210642Z
LAST-MODIFIED:20190313T210642Z
UID:2003-1553722200-1553725800@scholagregoriana.es
SUMMARY:Oficio de las Santas Llagas
DESCRIPTION:La Schola Gregoriana intervendrá en la celebración del Oficio de las Santas Llagas de la Real\, Muy Ilustre\, Venerable y Antiquísima Archicofradía de la Preciosísima Sangre de Nuestro Señor Jesucristo. Tendrá lugar en la Capilla de la Archicofradía\, anexa a la Parroquia de Nuestra Señora del Carmen. Durante los momentos de meditación de la celebración\, cantaremos piezas de Cuaresma y Semana Santa como Parce Domine\, Christus factus est\, Gloria\, laus et honor\, Hoc Corpus\, Crucem tuam\, Crux fidelis y Ubi Caritas. Agradecemos a la Cofradía que siempre cuente con nosotros para sus actos de devoción.
URL:https://scholagregoriana.es/evento/oficio-de-las-santas-llagas
LOCATION:Parroquia de Nuestra Señora del Carmen\, Plaza de González Conde\, 1\, Murcia\, Murcia\, 30002\, España
CATEGORIES:Liturgia
ATTACH;FMTTYPE=image/jpeg:https://scholagregoriana.es/wp-content/uploads/2019/03/coloraos.jpg
END:VEVENT
BEGIN:VEVENT
DTSTART;TZID=Europe/Paris:20190323T210000
DTEND;TZID=Europe/Paris:20190323T220000
DTSTAMP:20260421T200734
CREATED:20190219T075005Z
LAST-MODIFIED:20190219T081331Z
UID:1907-1553374800-1553378400@scholagregoriana.es
SUMMARY:Montiel
DESCRIPTION:A finales del mes de marzo\, la villa de Montiel conmemora el aniversario de la muerte del Rey Don Pedro I de Castilla\, acaecida en este lugar el 23 de marzo de 1369. Para dicho evento el Ayuntamiento y La Asociación Encomienda de Montiel organizan unas Jornadas de Recreación Histórico Medieval\, con un amplio programa de actos. Con tal motivo\, la Schola Gregoriana de Murcia cantará la Misa que se celebrará el día sábado 23 de marzo en la Parroquia de San Sebastián Mártir.
URL:https://scholagregoriana.es/evento/montiel
LOCATION:Iglesia de San Sebastián de Montiel\, Calle Iglesia 1\, Montiel\, Ciudad Real\, 13326\, España
CATEGORIES:Liturgia
ATTACH;FMTTYPE=image/jpeg:https://scholagregoriana.es/wp-content/uploads/2019/02/san_sebatian_montiel.jpg
END:VEVENT
BEGIN:VEVENT
DTSTART;TZID=Europe/Paris:20190322T210000
DTEND;TZID=Europe/Paris:20190322T220000
DTSTAMP:20260421T200734
CREATED:20190209T213626Z
LAST-MODIFIED:20190209T213936Z
UID:1897-1553288400-1553292000@scholagregoriana.es
SUMMARY:Cofradía de la Fe - Via Crucis
DESCRIPTION:La Cofradía del Santísimo Cristo de la Fe de Murcia ha invitado a la Schola Gregoriana de Murcia a intervenir en el Via Crucis que tendrá lugar en la Parroquia de San Francisco de Asís (Capuchinos) el próximo 22 de marzo como parte de los actos de culto de la cofradía durante la Cuaresma. La Cofradía de la Fe es la de creación más reciente en Murcia. De carácter penitencial\, desfila el Sábado de Pasión. La imagen del Cristo de la Fe es de Antonio Dorrego (1954).
URL:https://scholagregoriana.es/evento/cofradia-de-la-fe-via-crucis
LOCATION:Parroquia de San Francisco de Asis (Capuchinos) de Murcia\, Plaza Circular 10\, Murcia\, Murcia\, 30008\, España
CATEGORIES:Liturgia
ATTACH;FMTTYPE=image/jpeg:https://scholagregoriana.es/wp-content/uploads/2019/02/cabecera_via_crucis_capuchinos.jpg
END:VEVENT
BEGIN:VEVENT
DTSTART;TZID=Europe/Paris:20190317T200000
DTEND;TZID=Europe/Paris:20190317T210000
DTSTAMP:20260421T200734
CREATED:20190209T202017Z
LAST-MODIFIED:20190209T202032Z
UID:1892-1552852800-1552856400@scholagregoriana.es
SUMMARY:II Domingo de Cuaresma en Yecla
DESCRIPTION:Un año más\, la Schola Gregoriana de Murcia ha recibido la invitación a participar en los actos de culto que tienen lugar durante la Cuaresma en Yecla. En esta ocasión intervendremos en la celebración del II Domingo de Cuaresma en la Basílica Arciprestal de la Purísima Concepción de Yecla. Se trata de un templo monumental cuya construcción finalizó en 1868. Azorín dirá de ella: \nY sobre el oleaje pardo de los infinitos tejados\, paredones\, albardillas\, chimeneas frontones\, esquinazos\, surge majestuosa la blanca mole de la iglesia Nueva\, coronada por gigantesca cúpula listada en blancos y azules espirales.
URL:https://scholagregoriana.es/evento/ii-domingo-de-cuaresma-en-yecla
LOCATION:Basílica de la Purísima de Yecla\, Plaza Purísima 1\, Yecla\, Murcia\, 30510\, España
CATEGORIES:Liturgia
ATTACH;FMTTYPE=image/jpeg:https://scholagregoriana.es/wp-content/uploads/2019/02/cabecera_purisima_yecla.jpg
END:VEVENT
BEGIN:VEVENT
DTSTART;TZID=Europe/Paris:20190316T200000
DTEND;TZID=Europe/Paris:20190316T213000
DTSTAMP:20260421T200734
CREATED:20190127T114233Z
LAST-MODIFIED:20190209T180909Z
UID:1642-1552766400-1552771800@scholagregoriana.es
SUMMARY:Misa y recital en Almoradí
DESCRIPTION:Con motivo del Año Jubilar por el centenario de la devoción a la Virgen del Perpetuo Socorro\, la Schola Gregoriana de Murcia intervendrá en la liturgia del II Domingo de Cuaresma en la iglesia de San Andrés de Almoradí. Durante la celebración contará con la colaboración del organista Andrés Tafalla\, que acompañará los cantos desde el órgano histórico de Miguel de Alcarria (XIX). Después de la celebración tendrá lugar un recital de canto gregoriano centrado en torno al repertorio dedicado a María.
URL:https://scholagregoriana.es/evento/misa-y-recital-en-almoradi
LOCATION:Parroquia de San Andrés de Almoradí\, Calle Donadores 1\, Almoradí\, Alicante\, 03160\, España
CATEGORIES:Conciertos,Liturgia
ATTACH;FMTTYPE=image/jpeg:https://scholagregoriana.es/wp-content/uploads/2019/01/cabecera_perpetuo_socorro3.jpg
END:VEVENT
BEGIN:VEVENT
DTSTART;TZID=Europe/Paris:20190307T213000
DTEND;TZID=Europe/Paris:20190307T223000
DTSTAMP:20260421T200734
CREATED:20190223T190911Z
LAST-MODIFIED:20190223T190911Z
UID:1971-1551994200-1551997800@scholagregoriana.es
SUMMARY:San Juan de Dios
DESCRIPTION:La Schola Gregoriana de Murcia participará en un acto organizado por la Orden Hospitalaria de San Juan de Dios en honor a su fundador. Durante el acto se leerán textos relacionados con la fundación de la Orden\, intercalados con cantos gregorianos del tiempo de Cuaresma y piezas de órgano que interpretará Carlos Rafael Pérez. El acto tendrá lugar en la Iglesia Museo de San Juan de Dios.
URL:https://scholagregoriana.es/evento/san-juan-de-dios
LOCATION:Iglesia – Museo de San Juan de Dios\, Calle Eulogio Soriano\, 4\, Murcia\, Murcia\, 30001\, España
CATEGORIES:Conciertos
ATTACH;FMTTYPE=image/jpeg:https://scholagregoriana.es/wp-content/uploads/2019/02/san_juan_de_dios.jpg
END:VEVENT
END:VCALENDAR