BEGIN:VCALENDAR
VERSION:2.0
PRODID:-//Schola Gregoriana de Murcia - ECPv6.0.10//NONSGML v1.0//EN
CALSCALE:GREGORIAN
METHOD:PUBLISH
X-WR-CALNAME:Schola Gregoriana de Murcia
X-ORIGINAL-URL:https://scholagregoriana.es
X-WR-CALDESC:Eventos para Schola Gregoriana de Murcia
REFRESH-INTERVAL;VALUE=DURATION:PT1H
X-Robots-Tag:noindex
X-PUBLISHED-TTL:PT1H
BEGIN:VTIMEZONE
TZID:Europe/Paris
BEGIN:DAYLIGHT
TZOFFSETFROM:+0100
TZOFFSETTO:+0200
TZNAME:CEST
DTSTART:20250330T010000
END:DAYLIGHT
BEGIN:STANDARD
TZOFFSETFROM:+0200
TZOFFSETTO:+0100
TZNAME:CET
DTSTART:20251026T010000
END:STANDARD
END:VTIMEZONE
BEGIN:VEVENT
DTSTART;TZID=Europe/Paris:20250316T193000
DTEND;TZID=Europe/Paris:20250316T203000
DTSTAMP:20260419T201406
CREATED:20250310T155535Z
LAST-MODIFIED:20250310T164821Z
UID:2793-1742153400-1742157000@scholagregoriana.es
SUMMARY:II Domingo de Cuaresma
DESCRIPTION:El 16 de marzo cantaremos la liturgia del II Domingo de Cuaresma en la Catedral de Murcia con el acompañamiento al órgano de Jaime Martínez Vivancos. \nComenzaremos con el introito cuyo texto procede del salmo 26: \nTibi dixit cor meum\, quaesivi vultum tuum\, vultum tuum Domine requiram: ne avertas faciem tuam a me. \n– Contigo habló mi corazón\, sólo ansié contemplar tu rostro; lo buscaré\, Señor\, no lo escondas a mi vista. \nEn el tiempo de Cuaresma se sustituye el aleluya por un canto entre lecturas que se denomina tracto. El que corresponde a este Domingo emplea el salmo 59: \nCommovisti Domine terram\, et conturbasti eam. \n– Tú\, Señor\, has sacudido la tierra y la has turbado. \nEl ofertorio es una auténtica meditación sobre el amor a los mandatos del Señor procedente del salmo 118: \nMeditabor in mandatis tuis\, quae dilexi valde: et levabo manus meas ad mandata tua\, quae dilexi. \n– Serán mi delicia tus mandatos\, que tanto amo; levantaré mis manos hacia tus decretos\, que tanto amo. \nLa comunión emplea un texto del evangelio de Mateo\, capítulo 17\, en el que se narra la visión de Moisés y Elías ante Jesús y los discípulos Pedro\, Juan y Santiago. Y Jesús advierte a sus discípulos: \nVisionem quam vidistis\, nemini dixeritis\, donec a mortuis resurgat Filius hominis. \n– No contéis a nadie la visión hasta que el Hijo del hombre resucite de entre los muertos. \nCantaremos también el ordinario XVII.
URL:https://scholagregoriana.es/evento/ii-domingo-de-cuaresma-2
LOCATION:Catedral de Murcia\, Plaza del Cardenal Belluga 1\, Murcia\, Murcia\, 30001\, España
CATEGORIES:Liturgia
ATTACH;FMTTYPE=image/jpeg:https://scholagregoriana.es/wp-content/uploads/2022/10/catedral_apostoles.jpg
END:VEVENT
BEGIN:VEVENT
DTSTART;TZID=Europe/Paris:20250323T110000
DTEND;TZID=Europe/Paris:20250323T120000
DTSTAMP:20260419T201406
CREATED:20250310T164654Z
LAST-MODIFIED:20250310T164654Z
UID:2796-1742727600-1742731200@scholagregoriana.es
SUMMARY:III Domingo de Cuaresma
DESCRIPTION:El día 23 de marzo cantaremos el propio del III Domingo de Cuaresma en la Ermita del Rosario del barrio de Santiago el Mayor (Murcia). \nEl introito Oculi mei toma su texto del salmo 24: \nOculi mei semper ad Dominum\, quia ipse evelet de laqueo pedes meos: respice in me\, et miserere mei\, quoniam unicus et pauper sum ego. \n– Tengo los ojos puestos en el Señor\, porque él saca mis pies de la red. Mírame\, oh Dios\, y ten piedad de mí\, que estoy solo y afligido. \nEl tracto vuelve a emplear la imagen de los ojos dirigidos al Señor\, esta vez usando un texto del salmo 122: \nAd te levavi oculos meos\, qui habitas in caelis. \n– A ti levanto mis ojos\, a ti que habitas en el cielo. \nEl ofertorio emplea un texto del salmo 18 con el que se mantiene uno de los mensajes más repetidos en este tiempo litúrgico: guardar los mandatos del Señor. \nIustitiae Domini rectae\, laetificantes corda\, et dulciora super mel et favum: nam et servus tuus custodiet ea. \n– Los mandatos del Señor son rectos y alegran el corazón\, más dulces que la miel de un panal que destila. También tu siervo los guardará. \nLa comunión no se refiere al Evangelio de este Domingo\, que narra la parábola de la higuera que no da fruto y que el viñador quiere salvar un año más. Pero emplea el salmo 83\, un texto que emplea la imagen de la morada del Señor como lugar que acoge. \nPasser invenit sibi domum\, et turtur nidum\, ubi reponat pullos suos: altaria tua Domine virtutum\, Rex meus\, et Deus meus: beati qui habitant in domo tua\, in saeculum saeculi laudabunt te. \nHasta el gorrión ha encontrado una casa; la golondrina\, un nido donde colocar sus polluelos: tus altares\, Señor del universo\, Rey mío y Dios mío. Dichosos los que viven en tu casa\, alabándote siempre. \nEste Domingo cantaremos el ordinario XVII.
URL:https://scholagregoriana.es/evento/iii-domingo-de-cuaresma-2
LOCATION:Ermita del Rosario\, Carril de la Ermita 31\, Garres y Lages\, Murcia\, 30012\, España
CATEGORIES:Liturgia
ATTACH;FMTTYPE=image/jpeg:https://scholagregoriana.es/wp-content/uploads/2025/03/oculi_mei.jpg
END:VEVENT
BEGIN:VEVENT
DTSTART;TZID=Europe/Paris:20250326T200000
DTEND;TZID=Europe/Paris:20250326T210000
DTSTAMP:20260419T201406
CREATED:20250318T184119Z
LAST-MODIFIED:20250318T184119Z
UID:2802-1743019200-1743022800@scholagregoriana.es
SUMMARY:Oficio de las Santas Llagas
DESCRIPTION:La Schola Gregoriana intervendrá en la celebración del Oficio de las Santas Llagas de la Real\, Muy Ilustre\, Venerable y Antiquísima Archicofradía de la Preciosísima Sangre de Nuestro Señor Jesucristo\, que tendrá lugar en la Parroquia de Nuestra Señora del Carmen. Durante los momentos de meditación de la celebración\, cantaremos piezas de Cuaresma y Semana Santa.
URL:https://scholagregoriana.es/evento/oficio-de-las-santas-llagas-4
LOCATION:Parroquia de Nuestra Señora del Carmen\, Plaza de González Conde\, 1\, Murcia\, Murcia\, 30002\, España
CATEGORIES:Liturgia
ATTACH;FMTTYPE=image/jpeg:https://scholagregoriana.es/wp-content/uploads/2019/03/coloraos.jpg
END:VEVENT
BEGIN:VEVENT
DTSTART;TZID=Europe/Paris:20250329T203000
DTEND;TZID=Europe/Paris:20250329T213000
DTSTAMP:20260419T201406
CREATED:20250203T161708Z
LAST-MODIFIED:20250203T161708Z
UID:2787-1743280200-1743283800@scholagregoriana.es
SUMMARY:Paso Azul
DESCRIPTION:La Schola Gregoriana participará en la celebración litúrgica que se realizará en la Iglesia de San Francisco de Lorca como parte de los actos cuaresmales del Paso Azul. Interpretaremos los cantos propios del IV Domingo de Cuaresma (Dominica Laetare). \nEl introito\, cuya primera palabra da nombre a este Domingo\, tiene un texto inspirado en Isaías 66: \nLætáre Jerúsalem: et convéntum fácite omnes qui dilígitis eam: gaudéte cum lætítia\, qui in tristítia fuístis: ut exsultétis\, et satiémini ab ubéribus consolatiónis vestræ. \n– Alégrate\, Jerusalén\, y regocijaos con ella todos los que la amáis; gozaos los que estuvisteis tristes\, para que os llenéis de júbilo\, y recibáis los consuelos que manan de sus pechos. \nEl tracto\, que emplea un versículo del salmo 124\, dice así: \nQui confídunt in Dómino\, sicut mons Sion: non commovébitur in ætérnum\, qui hábitat in Jerúsalem. \n– Los que confían en el Señor son como el monte Sión: no tiembla\, está asentado para siempre el que habita en Jerusalén. \nCantaremos también el ofertorio\, con texto del salmo 134: \nIllúmina óculos meos\, nequándo obdórmiam in morte: nequándo dicat inimícus meus: Præválui advérsus eum. \n– Ilumina mis ojos para que nunca duerma en la muerte; no sea que diga mi enemigo: He podido más que él. \nLa comunión nos remite al capítulo 15 del evangelio de Lucas\, en el que se relata la parábola del hijo pródigo: \nOpórtet te fili gaudére\, quia frater tuus mórtuus fúerat\, et revíxit; períerat\, et invéntus est. \n– Conviene\, hijo\, que te alegres\, porque tu hermano estaba muerto\, y ha revivido; se había perdido\, y ha sido hallado. \nDurante la celebración interpretaremos también el ordinario XVII\, tradicionalmente empleado en tiempo de Cuaresma.
URL:https://scholagregoriana.es/evento/paso-azul
LOCATION:San Francisco de Lorca\, Calle de Nogalte 1\, Lorca\, Murcia\, 30800\, España
CATEGORIES:Liturgia
ATTACH;FMTTYPE=image/jpeg:https://scholagregoriana.es/wp-content/uploads/2025/02/san_francisco_lorca.jpg
END:VEVENT
END:VCALENDAR