BEGIN:VCALENDAR
VERSION:2.0
PRODID:-//Schola Gregoriana de Murcia - ECPv6.0.10//NONSGML v1.0//EN
CALSCALE:GREGORIAN
METHOD:PUBLISH
X-ORIGINAL-URL:https://scholagregoriana.es
X-WR-CALDESC:Eventos para Schola Gregoriana de Murcia
REFRESH-INTERVAL;VALUE=DURATION:PT1H
X-Robots-Tag:noindex
X-PUBLISHED-TTL:PT1H
BEGIN:VTIMEZONE
TZID:Europe/Paris
BEGIN:DAYLIGHT
TZOFFSETFROM:+0100
TZOFFSETTO:+0200
TZNAME:CEST
DTSTART:20250330T010000
END:DAYLIGHT
BEGIN:STANDARD
TZOFFSETFROM:+0200
TZOFFSETTO:+0100
TZNAME:CET
DTSTART:20251026T010000
END:STANDARD
END:VTIMEZONE
BEGIN:VEVENT
DTSTART;TZID=Europe/Paris:20250413T100000
DTEND;TZID=Europe/Paris:20250413T110000
DTSTAMP:20260419T184002
CREATED:20250404T073126Z
LAST-MODIFIED:20250404T073126Z
UID:2805-1744538400-1744542000@scholagregoriana.es
SUMMARY:Domingo de Ramos
DESCRIPTION:La Schola Gregoriana participará en la celebración del Domingo de Ramos en la Catedral de Murcia. Cantaremos las obras propias del día acompañados por el organista titular de la Catedral\, Manuel Torregrosa. La celebración comenzará con la bendición de las palmas en la Plaza de la Cruz. \n 
URL:https://scholagregoriana.es/evento/domingo-de-ramos-5
LOCATION:Catedral de Murcia\, Plaza del Cardenal Belluga 1\, Murcia\, Murcia\, 30001\, España
CATEGORIES:Liturgia
ATTACH;FMTTYPE=image/jpeg:https://scholagregoriana.es/wp-content/uploads/2022/10/catedral_apostoles.jpg
END:VEVENT
BEGIN:VEVENT
DTSTART;TZID=Europe/Paris:20250415T110000
DTEND;TZID=Europe/Paris:20250415T123000
DTSTAMP:20260419T184002
CREATED:20250404T073420Z
LAST-MODIFIED:20250404T073420Z
UID:2807-1744714800-1744720200@scholagregoriana.es
SUMMARY:Misa Crismal
DESCRIPTION:El Martes Santo se celebra en la Catedral de Murcia la Misa Crismal\, que reúne al obispo con todos los sacerdotes de la diócesis. La Schola participará en la liturgia de este día con los cantos propios. El organista titular de la Catedral\, Manuel Torregrosa\, nos acompañará desde la consola del órgano Merklin.
URL:https://scholagregoriana.es/evento/misa-crismal-5
LOCATION:Catedral de Murcia\, Plaza del Cardenal Belluga 1\, Murcia\, Murcia\, 30001\, España
CATEGORIES:Liturgia
ATTACH;FMTTYPE=image/jpeg:https://scholagregoriana.es/wp-content/uploads/2022/10/catedral_apostoles.jpg
END:VEVENT
BEGIN:VEVENT
DTSTART;TZID=Europe/Paris:20250417T190000
DTEND;TZID=Europe/Paris:20250417T200000
DTSTAMP:20260419T184002
CREATED:20250404T073758Z
LAST-MODIFIED:20250404T073758Z
UID:2809-1744916400-1744920000@scholagregoriana.es
SUMMARY:Jueves Santo
DESCRIPTION:El Jueves Santo cantaremos los oficios en la Iglesia de San Miguel de Murcia\, con el acompañamiento al órgano de Carlos Rafael Pérez.
URL:https://scholagregoriana.es/evento/jueves-santo-5
LOCATION:Iglesia de San Miguel\, Calle San Miguel\, Murcia\, Murcia\, 30005\, España
CATEGORIES:Liturgia
ATTACH;FMTTYPE=image/jpeg:https://scholagregoriana.es/wp-content/uploads/2022/04/Altar_San_Miguel.jpg
END:VEVENT
BEGIN:VEVENT
DTSTART;TZID=Europe/Paris:20250417T210000
DTEND;TZID=Europe/Paris:20250417T213000
DTSTAMP:20260419T184002
CREATED:20250404T073955Z
LAST-MODIFIED:20250404T073955Z
UID:2811-1744923600-1744925400@scholagregoriana.es
SUMMARY:Procesión del Silencio
DESCRIPTION:En la noche del Jueves Santo\, cantaremos en el interior de la iglesia de San Lorenzo al comienzo de la Procesión del Silencio.
URL:https://scholagregoriana.es/evento/procesion-del-silencio-2
LOCATION:Iglesia de San Lorenzo\, Calle Alejandro Séiquer 12\, Murcia\, Murcia\, 30001\, España
CATEGORIES:Liturgia
ATTACH;FMTTYPE=image/jpeg:https://scholagregoriana.es/wp-content/uploads/2019/02/san_lorenzo.jpg
END:VEVENT
BEGIN:VEVENT
DTSTART;TZID=Europe/Paris:20250418T180000
DTEND;TZID=Europe/Paris:20250418T190000
DTSTAMP:20260419T184002
CREATED:20250404T074215Z
LAST-MODIFIED:20250404T074215Z
UID:2813-1744999200-1745002800@scholagregoriana.es
SUMMARY:Viernes Santo
DESCRIPTION:La Schola cantará los oficios del Viernes Santo en la iglesia del convento de la Merced\, de los padres franciscanos. Durante esta celebración se cantará la pasión según san Juan.
URL:https://scholagregoriana.es/evento/viernes-santo-5
LOCATION:Iglesia conventual de La Merced\, Calle Santo Cristo 2\, Murcia\, Murcia\, 30001\, España
CATEGORIES:Liturgia
ATTACH;FMTTYPE=image/jpeg:https://scholagregoriana.es/wp-content/uploads/2019/02/la_merced.jpg
END:VEVENT
BEGIN:VEVENT
DTSTART;TZID=Europe/Paris:20250419T220000
DTEND;TZID=Europe/Paris:20250419T233000
DTSTAMP:20260419T184002
CREATED:20250412T185601Z
LAST-MODIFIED:20250412T185601Z
UID:2816-1745100000-1745105400@scholagregoriana.es
SUMMARY:Vigilia Pascual
DESCRIPTION:La noche del Sábado Santo\, la Schola participará en la celebración de la Vigilia Pascual en la Iglesia de San Miguel de Murcia. Nos acompañará al órgano Carlos Rafael Pérez.
URL:https://scholagregoriana.es/evento/vigilia-pascual-3
LOCATION:Iglesia de San Miguel\, Calle San Miguel\, Murcia\, Murcia\, 30005\, España
CATEGORIES:Liturgia
ATTACH;FMTTYPE=image/jpeg:https://scholagregoriana.es/wp-content/uploads/2022/04/Altar_San_Miguel.jpg
END:VEVENT
END:VCALENDAR