BEGIN:VCALENDAR
VERSION:2.0
PRODID:-//Schola Gregoriana de Murcia - ECPv6.0.10//NONSGML v1.0//EN
CALSCALE:GREGORIAN
METHOD:PUBLISH
X-WR-CALNAME:Schola Gregoriana de Murcia
X-ORIGINAL-URL:https://scholagregoriana.es
X-WR-CALDESC:Eventos para Schola Gregoriana de Murcia
REFRESH-INTERVAL;VALUE=DURATION:PT1H
X-Robots-Tag:noindex
X-PUBLISHED-TTL:PT1H
BEGIN:VTIMEZONE
TZID:Europe/Paris
BEGIN:DAYLIGHT
TZOFFSETFROM:+0100
TZOFFSETTO:+0200
TZNAME:CEST
DTSTART:20250330T010000
END:DAYLIGHT
BEGIN:STANDARD
TZOFFSETFROM:+0200
TZOFFSETTO:+0100
TZNAME:CET
DTSTART:20251026T010000
END:STANDARD
END:VTIMEZONE
BEGIN:VEVENT
DTSTART;TZID=Europe/Paris:20250518T193000
DTEND;TZID=Europe/Paris:20250518T203000
DTSTAMP:20260419T170328
CREATED:20250509T172808Z
LAST-MODIFIED:20250509T172808Z
UID:2823-1747596600-1747600200@scholagregoriana.es
SUMMARY:V Domingo de Pascua
DESCRIPTION:El 18 de mayo de 2025\, la Schola Gregoriana participará en la liturgia del V Domingo de Pascua en la Catedral de Murcia. Nos acompañará desde el gran órgano Merklin el organista Jaime Martínez Vivancos. \nEl propio de este día comienza con el introito “Cantate Domino”. Su texto procede de los dos primeros versículos del salmo 97\, y dice así: \nCantate Domino canticum novum\, alleluia: quia mirabilia fecit Dominus\, alleluia: ante conspectum gentium revelavit iustitiam suam\, alleluia\, alleluia. \n– Cantad al Señor un cántico nuevo\, aleluya; porque ha hecho maravillas\, aleluya. Revela a las naciones su justicia\, aleluya\, aleluya. \nLa proclamación antes del Evangelio procede de la Carta de San Pablo a los Romanos\, empleando un texto del capítulo 6\, versículo 9\, que canta el mensaje de la Pascua: \nAlleluya. Christus resurgens ex mortuis\, iam non moritur: mors illi ultra non dominabitur. \n– Aleluya. Cristo\, una vez resucitado de entre los muertos\, ya no muere más; la muerte ya no tiene dominio sobre Él. \nEn la comunión escuchamos un eco de la lectura del evangelio de este domingo\, que se centra en el capítulo 6 del evangelio de San Juan: “Mi carne es verdadera comida\, y mi sangre es verdadera bebida”. La comunión toma un fragmento del mismo evangelio\, pero del capítulo 15\, versículo 5: \nEgo sum vitis vera et vos palmites\, qui manet in me\, et ego in eo\, hic fert fructum multum\, alleluia\, alleluia. \n– Yo soy la vid verdadera\, y vosotros los sarmientos: el que permanece en mí y yo en él\, ese da fruto abundante. Aleluya\, aleluya. \nCantaremos la misa I (Lux et origo)\, el ordinario habitual de Pascua.
URL:https://scholagregoriana.es/evento/v-domingo-de-pascua-2
LOCATION:Catedral de Murcia\, Plaza del Cardenal Belluga 1\, Murcia\, Murcia\, 30001\, España
CATEGORIES:Liturgia
ATTACH;FMTTYPE=image/jpeg:https://scholagregoriana.es/wp-content/uploads/2022/10/catedral_apostoles.jpg
END:VEVENT
END:VCALENDAR