BEGIN:VCALENDAR
VERSION:2.0
PRODID:-//Schola Gregoriana de Murcia - ECPv6.0.10//NONSGML v1.0//EN
CALSCALE:GREGORIAN
METHOD:PUBLISH
X-WR-CALNAME:Schola Gregoriana de Murcia
X-ORIGINAL-URL:https://scholagregoriana.es
X-WR-CALDESC:Eventos para Schola Gregoriana de Murcia
REFRESH-INTERVAL;VALUE=DURATION:PT1H
X-Robots-Tag:noindex
X-PUBLISHED-TTL:PT1H
BEGIN:VTIMEZONE
TZID:Europe/Paris
BEGIN:DAYLIGHT
TZOFFSETFROM:+0100
TZOFFSETTO:+0200
TZNAME:CEST
DTSTART:20250330T010000
END:DAYLIGHT
BEGIN:STANDARD
TZOFFSETFROM:+0200
TZOFFSETTO:+0100
TZNAME:CET
DTSTART:20251026T010000
END:STANDARD
END:VTIMEZONE
BEGIN:VEVENT
DTSTART;TZID=Europe/Paris:20250621T190000
DTEND;TZID=Europe/Paris:20250621T200000
DTSTAMP:20260419T152737
CREATED:20250606T174057Z
LAST-MODIFIED:20250606T174057Z
UID:2827-1750532400-1750536000@scholagregoriana.es
SUMMARY:Monasterio del Corpus Christi
DESCRIPTION:El próximo sábado 21 de junio\, víspera del Corpus Christi\, la Schola Gregoriana participará en la liturgia del Monasterio de las madres agustinas de Murcia\, también llamado Monasterio del Corpus Christi. \nCantaremos el propio de la solemnidad\, incluyendo el introito Cibavit eos\, el aleluya Caro mea\, el ofertorio Portas caeli y la comunión Hoc corpus. El ordinario será el de la misa de Angelis.
URL:https://scholagregoriana.es/evento/monasterio-del-corpus-christi
LOCATION:Monasterio de Agustinas\, Plaza Agustinas 4\, Murcia\, Murcia\, 30005\, España
CATEGORIES:Liturgia
ATTACH;FMTTYPE=image/jpeg:https://scholagregoriana.es/wp-content/uploads/2019/11/agustinas.jpg
END:VEVENT
BEGIN:VEVENT
DTSTART;TZID=Europe/Paris:20250622T193000
DTEND;TZID=Europe/Paris:20250622T203000
DTSTAMP:20260419T152737
CREATED:20250606T174324Z
LAST-MODIFIED:20250606T174324Z
UID:2829-1750620600-1750624200@scholagregoriana.es
SUMMARY:Corpus Christi
DESCRIPTION:El domingo 22 de junio la Schola Gregoriana participará en la liturgia vespertina de la Catedral. Cantaremos las piezas del propio del Corpus Christi\, como el introito Cibavit eos\, el aleluya Caro mea y la comunión Hoc Corpus. El ordinario será el de la misa de Angelis. Nos acompañará al órgano Jaime Martínez Vivancos.
URL:https://scholagregoriana.es/evento/corpus-christi-2
LOCATION:Catedral de Murcia\, Plaza del Cardenal Belluga 1\, Murcia\, Murcia\, 30001\, España
CATEGORIES:Liturgia
ATTACH;FMTTYPE=image/jpeg:https://scholagregoriana.es/wp-content/uploads/2022/10/catedral_apostoles.jpg
END:VEVENT
END:VCALENDAR